BEGIN:VCALENDAR
VERSION:2.0
PRODID:-//wp-events-plugin.com//7.2.3.1//EN
TZID:Europe/Rome
X-WR-TIMEZONE:Europe/Rome
BEGIN:VEVENT
UID:93@sanroccoparrocchia.it
DTSTART;TZID=Europe/Rome:20250525T000000
DTEND;TZID=Europe/Rome:20250526T000000
DTSTAMP:20250502T162141Z
URL:https://www.sanroccoparrocchia.it/events/mercatino-di-maggio-2025-05-2
 5/
SUMMARY:Mercatino di maggio
DESCRIPTION:Aperto dalle 10 alle 12 e dalle 15:30 alle 18:30\n\n&nbsp\;\n\n
  
ATTACH;FMTTYPE=image/jpeg:https://www.sanroccoparrocchia.it/wp-content/upl
 oads/2025/05/1746202125713-scaled.jpg
CATEGORIES:Mercatino
LOCATION:Parrocchia S. Rocco\, Via del Cimitero\, 2\, 43043 Borgo Val di Ta
 ro PR\, Borgo Val di Taro\, Parma\, 43043\, Emilia-Romagna\, Italia
X-APPLE-STRUCTURED-LOCATION;VALUE=URI;X-ADDRESS=Via del Cimitero\, 2\, 4304
 3 Borgo Val di Taro PR\, Borgo Val di Taro\, Parma\, 43043\, Emilia-Romagn
 a\, Italia;X-APPLE-RADIUS=100;X-TITLE=Parrocchia S. Rocco:geo:0,0
END:VEVENT
BEGIN:VTIMEZONE
TZID:Europe/Rome
X-LIC-LOCATION:Europe/Rome
BEGIN:DAYLIGHT
DTSTART:20250330T030000
TZOFFSETFROM:+0100
TZOFFSETTO:+0200
TZNAME:CEST
END:DAYLIGHT
END:VTIMEZONE
END:VCALENDAR