BEGIN:VCALENDAR
VERSION:2.0
PRODID:-//wp-events-plugin.com//7.2.3.1//EN
TZID:Europe/Rome
X-WR-TIMEZONE:Europe/Rome
BEGIN:VEVENT
UID:51@sanroccoparrocchia.it
DTSTART;TZID=Europe/Rome:20240815T100000
DTEND;TZID=Europe/Rome:20240815T120000
DTSTAMP:20240801T143227Z
URL:https://www.sanroccoparrocchia.it/events/mercatino-valligiano-e-delle-
 pulci-5/
SUMMARY:Mercatino Valligiano e delle Pulci
DESCRIPTION: \n\n&nbsp\;\n\nTroverete di tutto e di più a prezzi invitanti
 .\n\nDarai un aiuto alla nostra comunità parrocchiale e farai un affare!\
 n\n&nbsp\;\n\nVi aspettiamo tutti i giorni festivi di agosto\, dalle 10:00
  alle 12:00 e dalle 16:00 alle 19:00
ATTACH;FMTTYPE=image/jpeg:https://www.sanroccoparrocchia.it/wp-content/upl
 oads/2024/07/1722351285464-scaled.jpg
CATEGORIES:Mercatino
LOCATION:https://www.google.it/maps/place/Chiesa+di+San+Rocco/@44.485656,9.
 7712119,17z/data=!3m1!4b1!4m6!3m5!1s0x12d4d10ba9c6fc5d:0xb8e4a2bb1add6811!
 8m2!3d44.485656!4d9.7712119!16s%2Fg%2F11byz8w8kt?entry=ttu
END:VEVENT
BEGIN:VTIMEZONE
TZID:Europe/Rome
X-LIC-LOCATION:Europe/Rome
BEGIN:DAYLIGHT
DTSTART:20240331T030000
TZOFFSETFROM:+0100
TZOFFSETTO:+0200
TZNAME:CEST
END:DAYLIGHT
END:VTIMEZONE
END:VCALENDAR