BEGIN:VCALENDAR
VERSION:2.0
PRODID:-//wp-events-plugin.com//7.2.3.1//EN
TZID:Europe/Rome
X-WR-TIMEZONE:Europe/Rome
BEGIN:VEVENT
UID:79@sanroccoparrocchia.it
DTSTART;TZID=Europe/Rome:20250516T203000
DTEND;TZID=Europe/Rome:20250517T210000
DTSTAMP:20250502T160703Z
URL:https://www.sanroccoparrocchia.it/events/rosario-2025-05-16/
SUMMARY:Rosario
DESCRIPTION:Santo Rosario alle ore 20:30
ATTACH;FMTTYPE=image/jpeg:https://www.sanroccoparrocchia.it/wp-content/upl
 oads/2025/05/rosario-maggio.png
CATEGORIES:Preghiere
LOCATION:Parrocchia S. Rocco\, Via del Cimitero\, 2\, 43043 Borgo Val di Ta
 ro PR\, Borgo Val di Taro\, Parma\, 43043\, Emilia-Romagna\, Italia
X-APPLE-STRUCTURED-LOCATION;VALUE=URI;X-ADDRESS=Via del Cimitero\, 2\, 4304
 3 Borgo Val di Taro PR\, Borgo Val di Taro\, Parma\, 43043\, Emilia-Romagn
 a\, Italia;X-APPLE-RADIUS=100;X-TITLE=Parrocchia S. Rocco:geo:0,0
END:VEVENT
BEGIN:VTIMEZONE
TZID:Europe/Rome
X-LIC-LOCATION:Europe/Rome
BEGIN:DAYLIGHT
DTSTART:20250330T030000
TZOFFSETFROM:+0100
TZOFFSETTO:+0200
TZNAME:CEST
END:DAYLIGHT
END:VTIMEZONE
END:VCALENDAR