BEGIN:VCALENDAR
VERSION:2.0
PRODID:-//wp-events-plugin.com//7.2.3.1//EN
TZID:Europe/Rome
X-WR-TIMEZONE:Europe/Rome
BEGIN:VEVENT
UID:37@sanroccoparrocchia.it
DTSTART;TZID=Europe/Rome:20240521T203000
DTEND;TZID=Europe/Rome:20240526T210000
DTSTAMP:20240502T145029Z
URL:https://www.sanroccoparrocchia.it/events/rosario-mese-di-maggio-3-2024
 -05-21/
SUMMARY:Rosario mese di maggio
DESCRIPTION:\nIncontro settimanale di preghiera dal 20 al 24 maggio
CATEGORIES:Preghiere
LOCATION:Parrocchia S. Rocco\, Via del Cimitero\, 2\, 43043 Borgo Val di Ta
 ro PR\, Borgo Val di Taro\, Parma\, 43043\, Emilia-Romagna\, Italia
X-APPLE-STRUCTURED-LOCATION;VALUE=URI;X-ADDRESS=Via del Cimitero\, 2\, 4304
 3 Borgo Val di Taro PR\, Borgo Val di Taro\, Parma\, 43043\, Emilia-Romagn
 a\, Italia;X-APPLE-RADIUS=100;X-TITLE=Parrocchia S. Rocco:geo:0,0
END:VEVENT
BEGIN:VTIMEZONE
TZID:Europe/Rome
X-LIC-LOCATION:Europe/Rome
BEGIN:DAYLIGHT
DTSTART:20240331T030000
TZOFFSETFROM:+0100
TZOFFSETTO:+0200
TZNAME:CEST
END:DAYLIGHT
END:VTIMEZONE
END:VCALENDAR